BEGIN:VCALENDAR
VERSION:2.0
CALSCALE:GREGORIAN
PRODID:UW-Madison-Physics-Events
BEGIN:VEVENT
SEQUENCE:0
UID:UW-Physics-Event-1190
DTSTART:20080509T203000Z
DURATION:PT1H0M0S
DTSTAMP:20260423T023627Z
LAST-MODIFIED:20080507T144114Z
LOCATION:Room AB20 Weeks Hall
SUMMARY:Exploring Mercury by Spacecraft: Seeking clues to the formatio
 n and evolution of the inner planets\, Department of Geology & Geophys
 ics General Talk\, Sean C Solomon\, Director\, Department of Terrestri
 al Magnetism\, Carnegie Institution of Washington\, Washington\, DC
DESCRIPTION:
URL:https://www.physics.wisc.edu/events/?id=1190
END:VEVENT
END:VCALENDAR
