BEGIN:VCALENDAR
VERSION:2.0
CALSCALE:GREGORIAN
PRODID:UW-Madison-Physics-Events
BEGIN:VEVENT
SEQUENCE:0
UID:UW-Physics-Event-1212
DTSTART:20090424T210000Z
DURATION:PT1H0M0S
DTSTAMP:20260420T095538Z
LAST-MODIFIED:20090413T154301Z
LOCATION:2241 Chamberlin Hall (coffee at 3:30 pm)
SUMMARY:Let's go Skating...  and do some Physics on the Ice\, Physics 
 Department Colloquium\, Charlotte Elster\, Ohio University
DESCRIPTION:Skating is fun! Figure skating is fun\, great exercise and
  beautiful to watch. Though I skated as a child on frozen ponds\, I st
 arted figure skating only a few years ago. This talk will discuss slip
 pery ice and how our blades work. Then the intricate interplay of line
 ar and angular momentum that characterizes the beauty and challenge of
  figure skating will be explained with selected examples. Above all I 
 want to share my love for the sports while looking at it through the l
 ens of a physicist.
URL:https://www.physics.wisc.edu/events/?id=1212
END:VEVENT
END:VCALENDAR
