BEGIN:VCALENDAR
VERSION:2.0
CALSCALE:GREGORIAN
PRODID:UW-Madison-Physics-Events
BEGIN:VEVENT
SEQUENCE:0
UID:UW-Physics-Event-1217
DTSTART:20080829T193000Z
DTEND:20080829T203000Z
DTSTAMP:20260423T010347Z
LAST-MODIFIED:20080814T231623Z
LOCATION:5280 Chamberlin
SUMMARY:Anisotropic Inflation from vector impurity\, Joint PHENO Semin
 ar/NPAC Forum\, Sugumi Kanno\, IPMU\, University of Tokyo
DESCRIPTION:
URL:https://www.physics.wisc.edu/events/?id=1217
END:VEVENT
END:VCALENDAR
