BEGIN:VCALENDAR
VERSION:2.0
CALSCALE:GREGORIAN
PRODID:UW-Madison-Physics-Events
BEGIN:VEVENT
SEQUENCE:0
UID:UW-Physics-Event-1228
DTSTART:20081212T220000Z
DURATION:PT1H0M0S
DTSTAMP:20260420T094151Z
LAST-MODIFIED:20081208T152754Z
LOCATION:2103 Chamberlin Hall
SUMMARY:Holiday Colloquium\, Physics Department Colloquium\, Holiday C
 olloquium
DESCRIPTION:
URL:https://www.physics.wisc.edu/events/?id=1228
END:VEVENT
END:VCALENDAR
