BEGIN:VCALENDAR
VERSION:2.0
CALSCALE:GREGORIAN
PRODID:UW-Madison-Physics-Events
BEGIN:VEVENT
SEQUENCE:0
UID:UW-Physics-Event-1237
DTSTART:20080908T210000Z
DURATION:PT1H0M0S
DTSTAMP:20260423T010115Z
LAST-MODIFIED:20080908T174224Z
LOCATION:4274 Chamberlin (Coffee and Cookies at 3:45 pm)
SUMMARY:CP Violation in Bs Meson Decays at CDF\, High Energy Seminar\,
  Gavril Giurgiu\, Johns Hopkins University
DESCRIPTION:
URL:https://www.physics.wisc.edu/events/?id=1237
END:VEVENT
END:VCALENDAR
