BEGIN:VCALENDAR
VERSION:2.0
CALSCALE:GREGORIAN
PRODID:UW-Madison-Physics-Events
BEGIN:VEVENT
SEQUENCE:0
UID:UW-Physics-Event-1258
DTSTART:20080908T170500Z
DTEND:20080908T181500Z
DTSTAMP:20260423T010316Z
LAST-MODIFIED:20080904T161255Z
LOCATION:1227 Engineering Hall
SUMMARY:Challenges and Scenarios for Achieving Current Sustainment wit
 h Good Confinement in the RFP\, Plasma Physics (Physics/ECE/NE 922) Se
 minar\, John Sarff\, University of Wisconsin\, Dept. of Physics/Plasma
DESCRIPTION:
URL:https://www.physics.wisc.edu/events/?id=1258
END:VEVENT
END:VCALENDAR
