BEGIN:VCALENDAR
VERSION:2.0
CALSCALE:GREGORIAN
PRODID:UW-Madison-Physics-Events
BEGIN:VEVENT
SEQUENCE:0
UID:UW-Physics-Event-1259
DTSTART:20080915T170500Z
DURATION:PT1H0M0S
DTSTAMP:20260423T010314Z
LAST-MODIFIED:20080915T154141Z
LOCATION:CANCELED
SUMMARY:CANCELED\, Plasma Physics (Physics/ECE/NE 922) Seminar\, Amita
 va Bhattacharjee\, University of New Hampshire
DESCRIPTION:
URL:https://www.physics.wisc.edu/events/?id=1259
END:VEVENT
END:VCALENDAR
