BEGIN:VCALENDAR
VERSION:2.0
CALSCALE:GREGORIAN
PRODID:UW-Madison-Physics-Events
BEGIN:VEVENT
SEQUENCE:0
UID:UW-Physics-Event-1261
DTSTART:20080929T170500Z
DURATION:PT1H0M0S
DTSTAMP:20260423T010346Z
LAST-MODIFIED:20080923T201340Z
LOCATION:1227 Engineering Hall
SUMMARY:Plasma Rotation Driven by Static Non-axisymmetric Magnetic Fie
 lds in DIII-D\, Plasma Physics (Physics/ECE/NE 922) Seminar\, Dr. Andr
 ea Garofalo\, General Atomics
DESCRIPTION:
URL:https://www.physics.wisc.edu/events/?id=1261
END:VEVENT
END:VCALENDAR
