BEGIN:VCALENDAR
VERSION:2.0
CALSCALE:GREGORIAN
PRODID:UW-Madison-Physics-Events
BEGIN:VEVENT
SEQUENCE:0
UID:UW-Physics-Event-1262
DTSTART:20080908T210000Z
DTEND:20080908T220000Z
DTSTAMP:20260423T010347Z
LAST-MODIFIED:20080904T162932Z
LOCATION:514 ERB
SUMMARY:Analog of Astrophysical Magnetorotational Instability in Couet
 te-Taylor Flows of Polymer Fluids\, Plasma Theory Seminar\, Stanislav 
 Boldyrev\, University of Wisconsin\, Dept. of Physics/Plasma
DESCRIPTION:
URL:https://www.physics.wisc.edu/events/?id=1262
END:VEVENT
END:VCALENDAR
