BEGIN:VCALENDAR
VERSION:2.0
CALSCALE:GREGORIAN
PRODID:UW-Madison-Physics-Events
BEGIN:VEVENT
SEQUENCE:0
UID:UW-Physics-Event-1268
DTSTART:20080923T170500Z
DURATION:PT1H0M0S
DTSTAMP:20260423T010317Z
LAST-MODIFIED:20080908T173002Z
LOCATION:4274 Chamberlin (Refreshments will be served)
SUMMARY:Native American science\, technology\, engineering\, and mathe
 matics before 1492\, Chaos & Complex Systems Seminar\, John Gustafson\
 , Independent Scholar formerly of Fond du Lac Tribal & Community Colle
 ge\, Cloquet\, MN
DESCRIPTION:A survey of Native Americans' accomplishments in what we c
 all the fields of science\, technology\, engineering\, and mathematics
  (STEM) reveals an impressive list\, a list of accomplishments that ca
 n serve as a new and attractive perspective to teach STEM to STEM-phob
 ic students. In addition\, the perspective provides new insights into 
 other problems. For example\,Europeans arriving in 1492 were small in 
 number\, yet they soon dominated the Americas.  Jared Diamond hypothes
 ized that European technology had something to do with it. By looking 
 at the pre-1492 Native American STEM-like accomplishments\, we may be 
 able to deduce more of why Europeans "went chaotic."<br>\n
URL:https://www.physics.wisc.edu/events/?id=1268
END:VEVENT
END:VCALENDAR
