BEGIN:VCALENDAR
VERSION:2.0
CALSCALE:GREGORIAN
PRODID:UW-Madison-Physics-Events
BEGIN:VEVENT
SEQUENCE:0
UID:UW-Physics-Event-1290
DTSTART:20090205T220000Z
DURATION:PT1H0M0S
DTSTAMP:20260420T055421Z
LAST-MODIFIED:20090130T034816Z
LOCATION:4274 Chamberlin
SUMMARY:Cosmology and the LHC\, NPAC (Nuclear/Particle/Astro/Cosmo) Fo
 rum\, Carlos E M Wagner\, Argonne National Laboratory & University of 
 Chicago
DESCRIPTION:The LHC is expected to shed light on the physics behind th
 e  mechanism of electroweak symmetry breaking\, associated with the ge
 neration of mass of all known elementary particles. There are good rea
 sons to think that the same physics is responsible for the origin of d
 ark matter and\, perhaps\, of the observable matter-antimatter asymmet
 ry.  In this talk I will summarize the arguments that support the  abo
 ve statements and provide a few examples of the interplay between cosm
 ology and collider physics at the LHC.
URL:https://www.physics.wisc.edu/events/?id=1290
END:VEVENT
END:VCALENDAR
