BEGIN:VCALENDAR
VERSION:2.0
CALSCALE:GREGORIAN
PRODID:UW-Madison-Physics-Events
BEGIN:VEVENT
SEQUENCE:0
UID:UW-Physics-Event-1292
DTSTART:20081013T170500Z
DURATION:PT1H0M0S
DTSTAMP:20260423T030353Z
LAST-MODIFIED:20081003T135500Z
LOCATION:1227 Engineering Hall
SUMMARY:Rotational Stabilization of Kink Modes in Magnetically Collima
 ted Jets\, Plasma Physics (Physics/ECE/NE 922) Seminar\, Chris Carey\,
  UW-Madison\, CPTC\, Dept of Physics
DESCRIPTION:
URL:https://www.physics.wisc.edu/events/?id=1292
END:VEVENT
END:VCALENDAR
