BEGIN:VCALENDAR
VERSION:2.0
CALSCALE:GREGORIAN
PRODID:UW-Madison-Physics-Events
BEGIN:VEVENT
SEQUENCE:0
UID:UW-Physics-Event-1295
DTSTART:20081020T210000Z
DTEND:20081020T220000Z
DTSTAMP:20260423T010305Z
LAST-MODIFIED:20080927T173035Z
LOCATION:4274 Chamberlin: Coffee and Cookies at 3:45 pm
SUMMARY:Search for High-Mass Resonances in CDF Dimuon Data\, High Ener
 gy Seminar\, Chris Hays\, University of Oxford
DESCRIPTION:
URL:https://www.physics.wisc.edu/events/?id=1295
END:VEVENT
END:VCALENDAR
