BEGIN:VCALENDAR
VERSION:2.0
CALSCALE:GREGORIAN
PRODID:UW-Madison-Physics-Events
BEGIN:VEVENT
SEQUENCE:0
UID:UW-Physics-Event-1296
DTSTART:20081027T210000Z
DURATION:PT1H0M0S
DTSTAMP:20260423T010317Z
LAST-MODIFIED:20081021T203648Z
LOCATION:4274 Chamberlin: Coffee and Cookies at 3:45 pm
SUMMARY:Measurement of dijet angular distributions in the TeV regime a
 nd searches for new physics beyond standard model\, High Energy Semina
 r\, Nirmalya Parua\, Indiana University
DESCRIPTION:
URL:https://www.physics.wisc.edu/events/?id=1296
END:VEVENT
END:VCALENDAR
