BEGIN:VCALENDAR
VERSION:2.0
CALSCALE:GREGORIAN
PRODID:UW-Madison-Physics-Events
BEGIN:VEVENT
SEQUENCE:0
UID:UW-Physics-Event-1297
DTSTART:20081003T183000Z
DURATION:PT1H0M0S
DTSTAMP:20260423T010154Z
LAST-MODIFIED:20080929T191835Z
LOCATION:5280 Chamberlin Hall
SUMMARY:The Simplicity of Scattering Amplitudes\, Theory/Phenomenology
  Seminar\, Ruth Britto\, Fermilab
DESCRIPTION:
URL:https://www.physics.wisc.edu/events/?id=1297
END:VEVENT
END:VCALENDAR
