BEGIN:VCALENDAR
VERSION:2.0
CALSCALE:GREGORIAN
PRODID:UW-Madison-Physics-Events
BEGIN:VEVENT
SEQUENCE:0
UID:UW-Physics-Event-1302
DTSTART:20081020T170500Z
DURATION:PT1H0M0S
DTSTAMP:20260423T010155Z
LAST-MODIFIED:20081020T122838Z
LOCATION:1227 Engineering Hall
SUMMARY:Magnetic Turbulent Reconnection\, Plasma Physics (Physics/ECE/
 NE 922) Seminar\, Alexander Lazarian\, University of Wisconsin. Dept o
 f Astronomy/Physics
DESCRIPTION:
URL:https://www.physics.wisc.edu/events/?id=1302
END:VEVENT
END:VCALENDAR
