BEGIN:VCALENDAR
VERSION:2.0
CALSCALE:GREGORIAN
PRODID:UW-Madison-Physics-Events
BEGIN:VEVENT
SEQUENCE:0
UID:UW-Physics-Event-1326
DTSTART:20090212T220000Z
DURATION:PT1H0M0S
DTSTAMP:20260420T040516Z
LAST-MODIFIED:20090208T223020Z
LOCATION:4274 Chamberlin
SUMMARY:Covariance\, Dynamics and Symmetries\, and Hadron Physics\, NP
 AC (Nuclear/Particle/Astro/Cosmo) Forum\, Craig Roberts\, Argonne Nati
 onal Laboratory
DESCRIPTION:QCD's Dyson-Schwinger equations provide a continuum framew
 ork within which hadron structure and interactions can be studied.  No
 nperturbative\, symmetry-preserving truncations exist so that model-in
 dependent predictions can be made and illustrated.  Insights that this
  approach yields into meson and nucleon structure will be explained.
URL:https://www.physics.wisc.edu/events/?id=1326
END:VEVENT
END:VCALENDAR
