BEGIN:VCALENDAR
VERSION:2.0
CALSCALE:GREGORIAN
PRODID:UW-Madison-Physics-Events
BEGIN:VEVENT
SEQUENCE:0
UID:UW-Physics-Event-1333
DTSTART:20081202T223000Z
DURATION:PT1H0M0S
DTSTAMP:20260423T010152Z
LAST-MODIFIED:20081024T145026Z
LOCATION:5280 Chamberlin Hall
SUMMARY:Heterotic-F theory duality revisited\, String Theory Seminar\,
  Masahito Yamazaki\, Cal Tech
DESCRIPTION:
URL:https://www.physics.wisc.edu/events/?id=1333
END:VEVENT
END:VCALENDAR
