BEGIN:VCALENDAR
VERSION:2.0
CALSCALE:GREGORIAN
PRODID:UW-Madison-Physics-Events
BEGIN:VEVENT
SEQUENCE:0
UID:UW-Physics-Event-1336
DTSTART:20090220T220000Z
DURATION:PT1H0M0S
DTSTAMP:20260420T055336Z
LAST-MODIFIED:20090212T145505Z
LOCATION:2241 Chamberlin Hall (coffee and cookies at 3:30 pm)
SUMMARY:Experiments on Dirty Bosons\, Physics Department Colloquium\, 
 Brian DeMarco\, University of Illinois at Urbana-Champaign
DESCRIPTION:Ultra-cold atom gases trapped in an optical lattice are no
 w poised to make strong contributions to resolving outstanding questio
 ns in condensed matter physics.  In these experiments\, atom gases are
  cooled to temperatures below a millionth of a degree of absolute zero
  and confined in a crystal of light.  I will talk about how we are usi
 ng this system to simulate models relevant to dirty superconductors.  
 I will report on the first experiments using optical lattices that inc
 lude fine-grained disorder\, including the observation of a disorder-i
 nduced superfluid-to-insulator transition. 
URL:https://www.physics.wisc.edu/events/?id=1336
END:VEVENT
END:VCALENDAR
