BEGIN:VCALENDAR
VERSION:2.0
CALSCALE:GREGORIAN
PRODID:UW-Madison-Physics-Events
BEGIN:VEVENT
SEQUENCE:0
UID:UW-Physics-Event-1338
DTSTART:20081020T193000Z
DTEND:20081020T203000Z
DTSTAMP:20260423T010315Z
LAST-MODIFIED:20081015T183712Z
LOCATION:5280 Chamberlin Hall
SUMMARY:Dark Matter Annihilation Modes\, Theory/Phenomenology Seminar\
 , Tom Weiler\, Vanderbilt University
DESCRIPTION:
URL:https://www.physics.wisc.edu/events/?id=1338
END:VEVENT
END:VCALENDAR
