BEGIN:VCALENDAR
VERSION:2.0
CALSCALE:GREGORIAN
PRODID:UW-Madison-Physics-Events
BEGIN:VEVENT
SEQUENCE:0
UID:UW-Physics-Event-1348
DTSTART:20081030T223000Z
DURATION:PT1H0M0S
DTSTAMP:20260423T010304Z
LAST-MODIFIED:20081024T165953Z
LOCATION:2223 Chamberlin Hall
SUMMARY:Atomic and Molecular Intro Seminar\, Graduate Introductory Sem
 inar\, Atomic & Molecular Group\, Physics Department
DESCRIPTION:Introductory Seminar for first year Grad Students (others 
 welcome)
URL:https://www.physics.wisc.edu/events/?id=1348
END:VEVENT
END:VCALENDAR
