BEGIN:VCALENDAR
VERSION:2.0
CALSCALE:GREGORIAN
PRODID:UW-Madison-Physics-Events
BEGIN:VEVENT
SEQUENCE:0
UID:UW-Physics-Event-1352
DTSTART:20081204T233000Z
DURATION:PT1H0M0S
DTSTAMP:20260420T094103Z
LAST-MODIFIED:20081024T171203Z
LOCATION:2223 Chamberlin Hall
SUMMARY:Condensed Matter Experimental\, Session II\, Graduate Introduc
 tory Seminar\, Mark Eriksson\, Cond. Matter Exp. Group\, Physics Dept
DESCRIPTION:Introductory Seminar for first year Grad Students (others 
 welcome)
URL:https://www.physics.wisc.edu/events/?id=1352
END:VEVENT
END:VCALENDAR
