BEGIN:VCALENDAR
VERSION:2.0
CALSCALE:GREGORIAN
PRODID:UW-Madison-Physics-Events
BEGIN:VEVENT
SEQUENCE:0
UID:UW-Physics-Event-1353
DTSTART:20081103T180500Z
DURATION:PT1H0M0S
DTSTAMP:20260423T010306Z
LAST-MODIFIED:20081024T214000Z
LOCATION:1227 Engineering Hall
SUMMARY:No Strings Attached:  Investigating Plasma Convection and Tran
 sport in the Levitated Dipole Experiment\, Plasma Physics (Physics/ECE
 /NE 922) Seminar\, Dr Darren Garnier\, MIT and Columbia University
DESCRIPTION:
URL:https://www.physics.wisc.edu/events/?id=1353
END:VEVENT
END:VCALENDAR
