BEGIN:VCALENDAR
VERSION:2.0
CALSCALE:GREGORIAN
PRODID:UW-Madison-Physics-Events
BEGIN:VEVENT
SEQUENCE:0
UID:UW-Physics-Event-1357
DTSTART:20081110T180500Z
DURATION:PT1H0M0S
DTSTAMP:20260423T010349Z
LAST-MODIFIED:20081110T153549Z
LOCATION:1227 Engineering Hall
SUMMARY:Improved Confinement at High Current in the MST Reversed-Field
  Pinch" & "Momentum Transport during Reconnection Events in the MST Re
 versed-Field Pinch\, Plasma Physics (Physics/ECE/NE 922) Seminar\, Dan
 iel Den Hartog & Alexey Kuritsyn\, UW-Madison\, Dept of Physics/Plasma
DESCRIPTION:
URL:https://www.physics.wisc.edu/events/?id=1357
END:VEVENT
END:VCALENDAR
