BEGIN:VCALENDAR
VERSION:2.0
CALSCALE:GREGORIAN
PRODID:UW-Madison-Physics-Events
BEGIN:VEVENT
SEQUENCE:0
UID:UW-Physics-Event-1364
DTSTART:20081215T203000Z
DTEND:20081215T213000Z
DTSTAMP:20260420T094103Z
LAST-MODIFIED:20081124T173913Z
LOCATION:5280 Chamberlin Hall
SUMMARY:Mixed Axion/Axino Cold and Warm Dark Matter from Yukawa-unifie
 d SUSY Models\, Theory/Phenomenology Seminar\, Howie Baer\, University
  of Oklahoma
DESCRIPTION:
URL:https://www.physics.wisc.edu/events/?id=1364
END:VEVENT
END:VCALENDAR
