BEGIN:VCALENDAR
VERSION:2.0
CALSCALE:GREGORIAN
PRODID:UW-Madison-Physics-Events
BEGIN:VEVENT
SEQUENCE:0
UID:UW-Physics-Event-1366
DTSTART:20081201T220000Z
DURATION:PT1H0M0S
DTSTAMP:20260420T094150Z
LAST-MODIFIED:20081126T170346Z
LOCATION:106 ERB
SUMMARY:Advanced MHD Feedback Control Methods on EXTRAP T2R\, Special 
 Plasma Seminar\, Dr. James Drake\, Royal Institute of Technology in St
 ockholm\, Sweden
DESCRIPTION:
URL:https://www.physics.wisc.edu/events/?id=1366
END:VEVENT
END:VCALENDAR
