BEGIN:VCALENDAR
VERSION:2.0
CALSCALE:GREGORIAN
PRODID:UW-Madison-Physics-Events
BEGIN:VEVENT
SEQUENCE:0
UID:UW-Physics-Event-1367
DTSTART:20081208T180500Z
DURATION:PT1H0M0S
DTSTAMP:20260423T030353Z
LAST-MODIFIED:20081203T162608Z
LOCATION:1227 Engineering Hall
SUMMARY:Transport Studies in HSX\, Plasma Physics (Physics/ECE/NE 922)
  Seminar\, Jeremy Lore\, UW-Madison\, Dept. of ECE
DESCRIPTION:
URL:https://www.physics.wisc.edu/events/?id=1367
END:VEVENT
END:VCALENDAR
