BEGIN:VCALENDAR
VERSION:2.0
CALSCALE:GREGORIAN
PRODID:UW-Madison-Physics-Events
BEGIN:VEVENT
SEQUENCE:0
UID:UW-Physics-Event-1381
DTSTART:20090416T210000Z
DURATION:PT1H0M0S
DTSTAMP:20260420T095538Z
LAST-MODIFIED:20090410T114510Z
LOCATION:4274 Chamberlin
SUMMARY:Quark Matter in Neutron Stars\, NPAC (Nuclear/Particle/Astro/C
 osmo) Forum\, Mark Alford\, Washington University
DESCRIPTION:Quark matter at high density and low temperature is expect
 ed to be a color superconductor\, which is a degenerate Fermi gas of q
 uarks with a condensate of Cooper pairs near the Fermi surface.  At th
 e highest densities\, where the QCD coupling is weak\, rigorous calcul
 ations are possible\, and the ground state is a particularly symmetric
  state\, the color-flavor locked (CFL) phase.  At lower densities the 
 CFL phase suffers from flavor-symmetry-breaking stresses\, so alternat
 ive phases\,<br>\nsome of which break translation and/or rotation inv
 ariance\, may be favored. I will review the state of our understanding
  of these phenomena\, and discuss the effort to develop signatures of 
 the presence of color superconducting quark matter in neutron stars.<b
 r>\n
URL:https://www.physics.wisc.edu/events/?id=1381
END:VEVENT
END:VCALENDAR
