BEGIN:VCALENDAR
VERSION:2.0
CALSCALE:GREGORIAN
PRODID:UW-Madison-Physics-Events
BEGIN:VEVENT
SEQUENCE:0
UID:UW-Physics-Event-1407
DTSTART:20090319T150000Z
DURATION:PT1H0M0S
DTSTAMP:20260422T181535Z
LAST-MODIFIED:20090112T201458Z
LOCATION:5310 Chamberlin
SUMMARY:Spring Break\, R. G. Herb Condensed Matter Seminar\, No Herb S
 eminar scheduled
DESCRIPTION:
URL:https://www.physics.wisc.edu/events/?id=1407
END:VEVENT
END:VCALENDAR
