BEGIN:VCALENDAR
VERSION:2.0
CALSCALE:GREGORIAN
PRODID:UW-Madison-Physics-Events
BEGIN:VEVENT
SEQUENCE:0
UID:UW-Physics-Event-1415
DTSTART:20090209T220000Z
DURATION:PT1H0M0S
DTSTAMP:20260420T041704Z
LAST-MODIFIED:20090119T200601Z
LOCATION:4274 Chamberlin: (Coffee and Cookies at 3:45 pm
SUMMARY:Latest Results from MiniBoone\, High Energy Seminar\, Chris Po
 lly\, University of Illinois Urbana-Champaign
DESCRIPTION:
URL:https://www.physics.wisc.edu/events/?id=1415
END:VEVENT
END:VCALENDAR
