BEGIN:VCALENDAR
VERSION:2.0
CALSCALE:GREGORIAN
PRODID:UW-Madison-Physics-Events
BEGIN:VEVENT
SEQUENCE:0
UID:UW-Physics-Event-1417
DTSTART:20090511T210000Z
DURATION:PT1H0M0S
DTSTAMP:20260422T214744Z
LAST-MODIFIED:20090120T134558Z
LOCATION:4274 Chamberlin
SUMMARY:TBA\, Joint HEP-NPAC Seminar\, David Hertzog\, University of I
 llinois Urbana-Champaign
DESCRIPTION:
URL:https://www.physics.wisc.edu/events/?id=1417
END:VEVENT
END:VCALENDAR
