BEGIN:VCALENDAR
VERSION:2.0
CALSCALE:GREGORIAN
PRODID:UW-Madison-Physics-Events
BEGIN:VEVENT
SEQUENCE:0
UID:UW-Physics-Event-1419
DTSTART:20090305T160000Z
DURATION:PT1H0M0S
DTSTAMP:20260422T181601Z
LAST-MODIFIED:20090223T211136Z
LOCATION:5310 Chamberlin
SUMMARY:Quantum computing with Ba ions\, R. G. Herb Condensed Matter S
 eminar\, Boris Blinov\, University of Washington - Seattle
DESCRIPTION:We are setting up to do basic quantum logic operations wit
 h trapped Ba ions at the University of Washington. I will describe our
  recent progress which includes: single qubit preparation\, manipulati
 on and detection\; ultrafast pulsed laser excitation of single ions fo
 r ion-photon entanglement demonstration\; a very high-N.A. optical sys
 tem for efficient collection of single ion fluorescence\; and coupling
  of such fluorescence into a single-mode optical fiber. Our future pla
 ns include entanglement of two Ba ions over long (~ 1 km) distance and
  the development of ultrafast quantum logic gates between small sets o
 f ions.
URL:https://www.physics.wisc.edu/events/?id=1419
END:VEVENT
END:VCALENDAR
