BEGIN:VCALENDAR
VERSION:2.0
CALSCALE:GREGORIAN
PRODID:UW-Madison-Physics-Events
BEGIN:VEVENT
SEQUENCE:0
UID:UW-Physics-Event-1420
DTSTART:20090127T180500Z
DTEND:20090127T191500Z
DTSTAMP:20260420T041701Z
LAST-MODIFIED:20090121T211436Z
LOCATION:Room 5280 Chamberlin Hall
SUMMARY:Magnetic Fluctuations in Maryland Centrifugal Experiment (MCX)
 \, Special Plasma Seminar\, Ilker Uzun-Kaymak\, University of Maryland
DESCRIPTION:
URL:https://www.physics.wisc.edu/events/?id=1420
END:VEVENT
END:VCALENDAR
