BEGIN:VCALENDAR
VERSION:2.0
CALSCALE:GREGORIAN
PRODID:UW-Madison-Physics-Events
BEGIN:VEVENT
SEQUENCE:0
UID:UW-Physics-Event-1421
DTSTART:20090129T220000Z
DTEND:20090129T233000Z
DTSTAMP:20260420T041758Z
LAST-MODIFIED:20090121T211802Z
LOCATION:Room 5280 Chamberlin Hall
SUMMARY:Upgrade of Motional Stark Effect Diagnostic on Alcator C-Mod\,
  Special Plasma Seminar\, Jinseok Ko\, MIT Plasma Science and Fusion C
 enter
DESCRIPTION:
URL:https://www.physics.wisc.edu/events/?id=1421
END:VEVENT
END:VCALENDAR
