BEGIN:VCALENDAR
VERSION:2.0
CALSCALE:GREGORIAN
PRODID:UW-Madison-Physics-Events
BEGIN:VEVENT
SEQUENCE:0
UID:UW-Physics-Event-1424
DTSTART:20090130T220000Z
DURATION:PT1H0M0S
DTSTAMP:20260420T060507Z
LAST-MODIFIED:20090126T220022Z
LOCATION:2241 Chamberlin Hall
SUMMARY:Long range interactions between Rydberg atoms\, Physics Depart
 ment Colloquium\, Saffman\, University of Wisconsin-Madison
DESCRIPTION:Interactions between Rydberg states of neutral atoms are a
  promising approach for  fast and long range quantum gates. We have de
 monstrated that a single Rydberg excited Rb atom  blocks  excitation o
 f a second atom located more than 10 microns away.  The observed proba
 bility of double excitation of < 20% is consistent  with a theoretical
   model of the Rydberg  interaction. Progress towards using blockade t
 o demonstrate a quantum CNOT gate with neutral atoms as well as ideas 
 for creating multiqubit entanglement will be presented.
URL:https://www.physics.wisc.edu/events/?id=1424
END:VEVENT
END:VCALENDAR
