BEGIN:VCALENDAR
VERSION:2.0
CALSCALE:GREGORIAN
PRODID:UW-Madison-Physics-Events
BEGIN:VEVENT
SEQUENCE:0
UID:UW-Physics-Event-1431
DTSTART:20090205T220000Z
DTEND:20090205T231500Z
DTSTAMP:20260420T041800Z
LAST-MODIFIED:20090130T143829Z
LOCATION:5280 Chamberlin Hall
SUMMARY:"Ion Current Estimations in the Irvine Field Reversed Configur
 ation:\, Special Plasma Seminar\, Wayne Harris\, University of Califor
 nia/Irvine
DESCRIPTION:
URL:https://www.physics.wisc.edu/events/?id=1431
END:VEVENT
END:VCALENDAR
