BEGIN:VCALENDAR
VERSION:2.0
CALSCALE:GREGORIAN
PRODID:UW-Madison-Physics-Events
BEGIN:VEVENT
SEQUENCE:0
UID:UW-Physics-Event-1441
DTSTART:20090210T213000Z
DURATION:PT1H0M0S
DTSTAMP:20260420T041534Z
LAST-MODIFIED:20090206T150640Z
LOCATION:6515 Sterling Hall
SUMMARY:The Evolution of AGN in Clusters of Galaxies\, Astronomy Collo
 quium\, Paul Martini\, Ohio State
DESCRIPTION:Galaxies in clusters have undergone profoundly different e
 volution relative to their counterparts in the field. I will present n
 ew results that show the same holds true for the supermassive black ho
 les at the centers of cluster galaxies. While luminous AGN are nearly 
 nonexistent in local clusters\, they are comparatively common in clust
 ers about z=0.5.<br><br>\nFurthermore\, the rate at which cluster AGN
  have shut off from high redshift to the present day is substantially 
 faster than the decline in the space density of field AGN. The evoluti
 on of the cluster AGN population therefore appears to mirror the evolu
 tion of cluster star-forming galaxies\, as well as suggest that AGN do
 wnsizing has an<br><br>\nenvironmental dependence.<br><br>\n
URL:https://www.physics.wisc.edu/events/?id=1441
END:VEVENT
END:VCALENDAR
