BEGIN:VCALENDAR
VERSION:2.0
CALSCALE:GREGORIAN
PRODID:UW-Madison-Physics-Events
BEGIN:VEVENT
SEQUENCE:0
UID:UW-Physics-Event-1442
DTSTART:20090217T213000Z
DURATION:PT1H0M0S
DTSTAMP:20260420T055444Z
LAST-MODIFIED:20090206T150622Z
LOCATION:6515 Sterling Hall
SUMMARY:TBA\, Astronomy Colloquium\, Ethan Vishniac\, Johns Hopkins Un
 iversity
DESCRIPTION:
URL:https://www.physics.wisc.edu/events/?id=1442
END:VEVENT
END:VCALENDAR
