BEGIN:VCALENDAR
VERSION:2.0
CALSCALE:GREGORIAN
PRODID:UW-Madison-Physics-Events
BEGIN:VEVENT
SEQUENCE:0
UID:UW-Physics-Event-1448
DTSTART:20090303T223000Z
DURATION:PT1H0M0S
DTSTAMP:20260420T055334Z
LAST-MODIFIED:20090225T223358Z
LOCATION:5280 Chmaberlin Hall
SUMMARY:A Tour of Flux Compactification Dynamic\, String Theory Semina
 r\, Andrew Frey McGill
DESCRIPTION:
URL:https://www.physics.wisc.edu/events/?id=1448
END:VEVENT
END:VCALENDAR
