BEGIN:VCALENDAR
VERSION:2.0
CALSCALE:GREGORIAN
PRODID:UW-Madison-Physics-Events
BEGIN:VEVENT
SEQUENCE:0
UID:UW-Physics-Event-1449
DTSTART:20090511T213000Z
DURATION:PT1H0M0S
DTSTAMP:20260422T214745Z
LAST-MODIFIED:20090210T213031Z
LOCATION:5280 Chmaberlin Hall
SUMMARY:TBA\, String Theory Seminar\, Koji Hashimoto\, RIKEN (tentativ
 e)
DESCRIPTION:
URL:https://www.physics.wisc.edu/events/?id=1449
END:VEVENT
END:VCALENDAR
