BEGIN:VCALENDAR
VERSION:2.0
CALSCALE:GREGORIAN
PRODID:UW-Madison-Physics-Events
BEGIN:VEVENT
SEQUENCE:0
UID:UW-Physics-Event-1451
DTSTART:20090216T180500Z
DTEND:20090216T190500Z
DTSTAMP:20260423T000254Z
LAST-MODIFIED:20090212T130810Z
LOCATION:3345 Engineering Hall
SUMMARY:Exponential Growth and Filamentary Structure of Nonlinear Ball
 ooning Instability\, Plasma Physics (Physics/ECE/NE 922) Seminar\, Pin
 g Zhu\, UW-Madison\, Dept of EP
DESCRIPTION:
URL:https://www.physics.wisc.edu/events/?id=1451
END:VEVENT
END:VCALENDAR
