BEGIN:VCALENDAR
VERSION:2.0
CALSCALE:GREGORIAN
PRODID:UW-Madison-Physics-Events
BEGIN:VEVENT
SEQUENCE:0
UID:UW-Physics-Event-1452
DTSTART:20090223T180500Z
DTEND:20090223T191500Z
DTSTAMP:20260423T000255Z
LAST-MODIFIED:20090212T131354Z
LOCATION:3345 Engineering Hall
SUMMARY:Beyond MHD in Astrophysics:  Buoyancy Instabilities in Galaxy 
 Clusters\, Plasma Physics (Physics/ECE/NE 922) Seminar\, Dr. Ian Parri
 sh\, Dept of Astronomy at University of California-Berkeley
DESCRIPTION:
URL:https://www.physics.wisc.edu/events/?id=1452
END:VEVENT
END:VCALENDAR
