BEGIN:VCALENDAR
VERSION:2.0
CALSCALE:GREGORIAN
PRODID:UW-Madison-Physics-Events
BEGIN:VEVENT
SEQUENCE:0
UID:UW-Physics-Event-1453
DTSTART:20090216T220000Z
DTEND:20090216T230000Z
DTSTAMP:20260420T040518Z
LAST-MODIFIED:20090213T214227Z
LOCATION:4274 Chamberlin: (Coffee and Cookies at 3:45 pm)
SUMMARY:Search for charged massive stable particles at D0\, High Energ
 y Seminar\, Tulika Bose\, Boston University
DESCRIPTION:
URL:https://www.physics.wisc.edu/events/?id=1453
END:VEVENT
END:VCALENDAR
