BEGIN:VCALENDAR
VERSION:2.0
CALSCALE:GREGORIAN
PRODID:UW-Madison-Physics-Events
BEGIN:VEVENT
SEQUENCE:0
UID:UW-Physics-Event-1454
DTSTART:20090217T180500Z
DURATION:PT1H0M0S
DTSTAMP:20260420T041800Z
LAST-MODIFIED:20090216T143012Z
LOCATION: 4274 Chamberlin
SUMMARY:Poetry\, mathematics\, and science\, Chaos & Complex Systems S
 eminar\, Robin Chapman\, UW Department of Communicative Disorders
DESCRIPTION:Several recent anthologies have focused on the use of math
 ematics and science in poetry across the centuries. I'll read from my 
 own and other's work\, particularly the collection Strange Attractors:
  Poems of Love and Mathematics\, in honor of Valentine's Day\, and dis
 cuss briefly what questions a science of poetry comprehension might as
 k.
URL:https://www.physics.wisc.edu/events/?id=1454
END:VEVENT
END:VCALENDAR
