BEGIN:VCALENDAR
VERSION:2.0
CALSCALE:GREGORIAN
PRODID:UW-Madison-Physics-Events
BEGIN:VEVENT
SEQUENCE:0
UID:UW-Physics-Event-1455
DTSTART:20090224T180500Z
DURATION:PT1H0M0S
DTSTAMP:20260420T041609Z
LAST-MODIFIED:20090216T143314Z
LOCATION: 4274 Chamberlin
SUMMARY:Studying Dynamical Systems with Computer Algebra Systems\, Cha
 os & Complex Systems Seminar\, George Hrabovsky\, Madison Area Science
  and Technology
DESCRIPTION:Computer algebra systems are powerful programming platform
 s that allow a single programmer to complete\, in a week\, what would 
 normally take a team of programmers months to do. In this talk I will 
 demonstrate\, through a variety of examples\, how these tools can make
  mathematical explorations of dynamical systems much simpler and in ma
 ny ways more powerfully than traditional\, strictly numerical approach
 es. 
URL:https://www.physics.wisc.edu/events/?id=1455
END:VEVENT
END:VCALENDAR
