BEGIN:VCALENDAR
VERSION:2.0
CALSCALE:GREGORIAN
PRODID:UW-Madison-Physics-Events
BEGIN:VEVENT
SEQUENCE:0
UID:UW-Physics-Event-1464
DTSTART:20090421T170500Z
DURATION:PT1H0M0S
DTSTAMP:20260420T095436Z
LAST-MODIFIED:20090216T145241Z
LOCATION: 4274 Chamberlin
SUMMARY:TBA\, Chaos & Complex Systems Seminar\, Olga Trubetskoy\, Phar
 macy and Comparative Biosciences
DESCRIPTION:
URL:https://www.physics.wisc.edu/events/?id=1464
END:VEVENT
END:VCALENDAR
