BEGIN:VCALENDAR
VERSION:2.0
CALSCALE:GREGORIAN
PRODID:UW-Madison-Physics-Events
BEGIN:VEVENT
SEQUENCE:0
UID:UW-Physics-Event-1468
DTSTART:20090225T203000Z
DURATION:PT1H0M0S
DTSTAMP:20260420T040517Z
LAST-MODIFIED:20090218T150115Z
LOCATION:5280 Chamberlin Hall
SUMMARY:Heavy-flavor Inclusive Production: Formalism and Applications\
 , Theory/Phenomenology Seminar\, Bernd Kniehl\, University of Hamburg
DESCRIPTION:
URL:https://www.physics.wisc.edu/events/?id=1468
END:VEVENT
END:VCALENDAR
