BEGIN:VCALENDAR
VERSION:2.0
CALSCALE:GREGORIAN
PRODID:UW-Madison-Physics-Events
BEGIN:VEVENT
SEQUENCE:0
UID:UW-Physics-Event-1485
DTSTART:20090309T170500Z
DURATION:PT1H0M0S
DTSTAMP:20260420T041533Z
LAST-MODIFIED:20090304T133636Z
LOCATION:3345 Engineering Hall
SUMMARY:Helical States and Feedback Control in RFX:  Building the RFP 
 Future in the ITER ERA\, Plasma Physics (Physics/ECE/NE 922) Seminar\,
  Piero Martin\, Consorzio RFX\, Physics Dept.\, University of Padova\,
  ITALY
DESCRIPTION:
URL:https://www.physics.wisc.edu/events/?id=1485
END:VEVENT
END:VCALENDAR
