BEGIN:VCALENDAR
VERSION:2.0
CALSCALE:GREGORIAN
PRODID:UW-Madison-Physics-Events
BEGIN:VEVENT
SEQUENCE:0
UID:UW-Physics-Event-1486
DTSTART:20090309T210000Z
DURATION:PT1H0M0S
DTSTAMP:20260420T041759Z
LAST-MODIFIED:20090304T161023Z
LOCATION:514 ERB
SUMMARY:RF Stabilization Mechanisms for Resistive Tearing Modes\, Plas
 ma Theory Seminar\, Tom Jenkins\, UW-Madison\, Dept of Physics/Plasma
DESCRIPTION:
URL:https://www.physics.wisc.edu/events/?id=1486
END:VEVENT
END:VCALENDAR
