BEGIN:VCALENDAR
VERSION:2.0
CALSCALE:GREGORIAN
PRODID:UW-Madison-Physics-Events
BEGIN:VEVENT
SEQUENCE:0
UID:UW-Physics-Event-1493
DTSTART:20090331T210000Z
DTEND:20090331T220000Z
DTSTAMP:20260420T055424Z
LAST-MODIFIED:20090324T135825Z
LOCATION:4274 Chamberlin(Coffee and Cookies at 3:45 pm)
SUMMARY:DUSEL - Progress on the Deep Underground Science and Engineeri
 ng Laboratory\, High Energy Seminar\, Kevin Lesko\, Lawrence Berkeley 
 National Laboratory
DESCRIPTION:
URL:https://www.physics.wisc.edu/events/?id=1493
END:VEVENT
END:VCALENDAR
